BEGIN:VCALENDAR
VERSION:2.0
PRODID:-//hacksw/handcal//NONSGML v1.0//EN
CALSCALE:GREGORIAN
METHOD:PUBLISH
BEGIN:VEVENT
DTEND:20191220T230000Z
UID:5dfaa0f283874
DTSTAMP:20191218T215810Z
LOCATION:Thornton Auctions @ 4 Fergusson St Feilding
DESCRIPTION:Feilding Farming &#38\;amp\; General Auction MPA0017&#10\;Machinery and Plant &#38\;#8211\; Saturday 21st December  starting at 10.00am. Location is 4 Fergusson Street\, Feilding.&#10\;You must arrange your own transport/collection\, try using Pass the Parcel\,  collections are to be completed within 3 days of the auction closing unless otherwise indicated.&#10\;A buyers &#38\;#8230\;&#10\;
URL;VALUE=URI:thorntons.net.nz
SUMMARY:Feilding Farming & General Auction MPA0017
DTSTART:20191220T210000Z
END:VEVENT
END:VCALENDAR