BEGIN:VCALENDAR
VERSION:2.0
PRODID:-//hacksw/handcal//NONSGML v1.0//EN
CALSCALE:GREGORIAN
METHOD:PUBLISH
BEGIN:VEVENT
DTEND:20191219T090000Z
UID:5dfaa0ebdba5b
DTSTAMP:20191218T215803Z
LOCATION:Thornton Auctions @ 8 Tiri Place\, Mt. Wellington
DESCRIPTION:POLICE AUCTION F695&#10\;THURSDAY 19TH DECEMBER 2019 &#38\;#8211\; 6PM&#10\;BUYERS PREMIUM=17.25% GST INCLUDED&#10\;ITEMS MUST BE PICKED UP/PAID FOR BY 2PM SATURDAY 21ST DECEMBER OR NON COLLECTION FEES MAY APPLY&#10\;CREDIT CARD SURCHARGE 3%&#10\;ALL ITEMS AS IS WHERE IS&#10\;
URL;VALUE=URI:thorntons.net.nz
SUMMARY:POLICE AUCTION F695
DTSTART:20191219T050000Z
END:VEVENT
END:VCALENDAR