BEGIN:VCALENDAR
VERSION:2.0
PRODID:-//hacksw/handcal//NONSGML v1.0//EN
CALSCALE:GREGORIAN
METHOD:PUBLISH
BEGIN:VEVENT
DTEND:20191219T200000Z
UID:5dfaa0e5ebf3b
DTSTAMP:20191218T215757Z
LOCATION:Thornton Auctions @ 8 Tiri Place\, Mt. Wellington
DESCRIPTION:ONLINE DESIGNER CLUTCHES\, SUNGLASSES &#38\;amp\; WATCHES AUCTION&#10\;BUYERS PREMIUM = 17.25% INCLUDING  GST&#10\;ONLINE BIDDING ONLY&#10\;MUST BE PAID FOR AND COLLECTED WITHIN 3 WORKING DAYS OF THE LISTING CLOSING\, NON COLLECTION FEES MAY APPLY&#10\;CREDIT CARD SURCHARGE 3%&#10\;FOR MORE INFORMATION CONTACT: enquiries@thorntons.net.nz&#10\;&#38\;nbsp\;&#10\;
URL;VALUE=URI:thorntons.net.nz
SUMMARY:ONLINE DESIGNER CLUTCHES, SUNGLASSES & WATCHES AUCTION
DTSTART:20191215T200000Z
END:VEVENT
END:VCALENDAR