BEGIN:VCALENDAR
VERSION:2.0
PRODID:-//hacksw/handcal//NONSGML v1.0//EN
CALSCALE:GREGORIAN
METHOD:PUBLISH
BEGIN:VEVENT
DTEND:20191219T000000Z
UID:5dfaa0dfa36c6
DTSTAMP:20191218T215751Z
LOCATION:Thornton Auctions @ 8 Tiri Place
DESCRIPTION:ONLINE IT AUCTION (OL0088)&#10\;ONLINE IT AUCTION (OL0088) STARTS FRIDAY 13TH DEC 1PM\,  CLOSES THURSDAY 19TH 1PM.&#10\;BUYERS PREMIUM OF 17.25%&#10\;COLLECTION DAYS WILL BE FROM THURSDAY THE 19TH AT 2PM TILL 9PM\, FRIDAY THE 20TH 9AM TO 4PM AND SATURDAY THE 21ST OF DECEMBER 9AM TILL 2PM&#10\;&#38\;nbsp\;&#10\;&#38\;nbsp\;&#10\;&#38\;nbsp\;&#10\;&#38\;nbsp\;&#10\;
URL;VALUE=URI:thorntons.net.nz
SUMMARY:ONLINE IT AUCTION (OL0088)
DTSTART:20191213T000000Z
END:VEVENT
END:VCALENDAR