BEGIN:VCALENDAR
VERSION:2.0
PRODID:-//hacksw/handcal//NONSGML v1.0//EN
CALSCALE:GREGORIAN
METHOD:PUBLISH
BEGIN:VEVENT
DTEND:20191218T230000Z
UID:5dfaa0d9d3150
DTSTAMP:20191218T215745Z
LOCATION:Thornton Auctions @ 8 Tiri Place\, Mt. Wellington
DESCRIPTION:ALCOHOL ONLINE AUCTION (OL0087)&#10\;Starts 12th December 2019 Starting 1PM&#10\;Viewing by appointment&#10\;Sale closes Thursday the 12th of December at 12pm&#10\;Collection days are Friday the 19th and 21st of December (we close at 2pm on 21st)&#10\;BUYERS PREMIUM = 17.25% GST INCLUDED&#10\;STRICTLY R18. ID will be required on collection.&#10\;CREDIT CARD SURCHARGE 3%&#10\;All items must &#38\;#8230\;&#10\;
URL;VALUE=URI:thorntons.net.nz
SUMMARY:ALCOHOL ONLINE AUCTION (OL0087)
DTSTART:20191212T000000Z
END:VEVENT
END:VCALENDAR